BEGIN:VCALENDAR
VERSION:2.0
PRODID:-// - ECPv6.15.9//NONSGML v1.0//EN
CALSCALE:GREGORIAN
METHOD:PUBLISH
X-ORIGINAL-URL:https://vhsi.b-solid.be
X-WR-CALDESC:Events voor 
REFRESH-INTERVAL;VALUE=DURATION:PT1H
X-Robots-Tag:noindex
X-PUBLISHED-TTL:PT1H
BEGIN:VTIMEZONE
TZID:Europe/Brussels
BEGIN:DAYLIGHT
TZOFFSETFROM:+0100
TZOFFSETTO:+0200
TZNAME:CEST
DTSTART:20250330T010000
END:DAYLIGHT
BEGIN:STANDARD
TZOFFSETFROM:+0200
TZOFFSETTO:+0100
TZNAME:CET
DTSTART:20251026T010000
END:STANDARD
BEGIN:DAYLIGHT
TZOFFSETFROM:+0100
TZOFFSETTO:+0200
TZNAME:CEST
DTSTART:20260329T010000
END:DAYLIGHT
BEGIN:STANDARD
TZOFFSETFROM:+0200
TZOFFSETTO:+0100
TZNAME:CET
DTSTART:20261025T010000
END:STANDARD
BEGIN:DAYLIGHT
TZOFFSETFROM:+0100
TZOFFSETTO:+0200
TZNAME:CEST
DTSTART:20270328T010000
END:DAYLIGHT
BEGIN:STANDARD
TZOFFSETFROM:+0200
TZOFFSETTO:+0100
TZNAME:CET
DTSTART:20271031T010000
END:STANDARD
END:VTIMEZONE
BEGIN:VEVENT
DTSTART;TZID=Europe/Brussels:20260315T100000
DTEND;TZID=Europe/Brussels:20260315T140000
DTSTAMP:20260423T005619
CREATED:20251102T122920Z
LAST-MODIFIED:20251102T122920Z
UID:2072-1773568800-1773583200@vhsi.b-solid.be
SUMMARY:Infovoormiddag voor ouders en leerlingen 6e leerjaar
DESCRIPTION:
URL:https://vhsi.b-solid.be/event/infovoormiddag-voor-ouders-en-leerlingen-6e-leerjaar/
LOCATION:Vrij Handels- en SportInstituut\, Spoorwegstraat 14\, Sint-Michiels Brugge\, 8200\, Belgium
CATEGORIES:Infomomenten
END:VEVENT
BEGIN:VEVENT
DTSTART;TZID=Europe/Brussels:20260424T190000
DTEND;TZID=Europe/Brussels:20260424T213000
DTSTAMP:20260423T005619
CREATED:20251102T123357Z
LAST-MODIFIED:20251102T123357Z
UID:2078-1777057200-1777066200@vhsi.b-solid.be
SUMMARY:Infoavond
DESCRIPTION:
URL:https://vhsi.b-solid.be/event/infoavond/
LOCATION:Vrij Handels- en SportInstituut\, Spoorwegstraat 14\, Sint-Michiels Brugge\, 8200\, Belgium
CATEGORIES:Infomomenten
END:VEVENT
BEGIN:VEVENT
DTSTART;TZID=Europe/Brussels:20260425T110000
DTEND;TZID=Europe/Brussels:20260425T143000
DTSTAMP:20260423T005619
CREATED:20251102T123524Z
LAST-MODIFIED:20251102T123738Z
UID:2080-1777114800-1777127400@vhsi.b-solid.be
SUMMARY:VHSI-Infodag
DESCRIPTION:
URL:https://vhsi.b-solid.be/event/vhsi-infodag/
LOCATION:Vrij Handels- en SportInstituut\, Spoorwegstraat 14\, Sint-Michiels Brugge\, 8200\, Belgium
CATEGORIES:Infomomenten
END:VEVENT
BEGIN:VEVENT
DTSTART;TZID=Europe/Brussels:20260701T110000
DTEND;TZID=Europe/Brussels:20260701T180000
DTSTAMP:20260423T005619
CREATED:20251102T124842Z
LAST-MODIFIED:20251102T124842Z
UID:2094-1782903600-1782928800@vhsi.b-solid.be
SUMMARY:VHSI open voor inschrijvingen en inlichtingen
DESCRIPTION:
URL:https://vhsi.b-solid.be/event/vhsi-open-voor-inschrijvingen-en-inlichtingen/
LOCATION:Vrij Handels- en SportInstituut\, Spoorwegstraat 14\, Sint-Michiels Brugge\, 8200\, Belgium
CATEGORIES:Infomomenten
END:VEVENT
BEGIN:VEVENT
DTSTART;TZID=Europe/Brussels:20260702T110000
DTEND;TZID=Europe/Brussels:20260702T180000
DTSTAMP:20260423T005619
CREATED:20251102T124939Z
LAST-MODIFIED:20251102T124939Z
UID:2096-1782990000-1783015200@vhsi.b-solid.be
SUMMARY:VHSI open voor inschrijvingen en inlichtingen
DESCRIPTION:
URL:https://vhsi.b-solid.be/event/vhsi-open-voor-inschrijvingen-en-inlichtingen-2/
LOCATION:Vrij Handels- en SportInstituut\, Spoorwegstraat 14\, Sint-Michiels Brugge\, 8200\, Belgium
CATEGORIES:Infomomenten
END:VEVENT
BEGIN:VEVENT
DTSTART;TZID=Europe/Brussels:20260703T110000
DTEND;TZID=Europe/Brussels:20260703T180000
DTSTAMP:20260423T005619
CREATED:20251102T125100Z
LAST-MODIFIED:20251102T125100Z
UID:2098-1783076400-1783101600@vhsi.b-solid.be
SUMMARY:VHSI open voor inschrijvingen en inlichtingen
DESCRIPTION:
URL:https://vhsi.b-solid.be/event/vhsi-open-voor-inschrijvingen-en-inlichtingen-3/
LOCATION:Vrij Handels- en SportInstituut\, Spoorwegstraat 14\, Sint-Michiels Brugge\, 8200\, Belgium
CATEGORIES:Infomomenten
END:VEVENT
BEGIN:VEVENT
DTSTART;TZID=Europe/Brussels:20260706T110000
DTEND;TZID=Europe/Brussels:20260706T180000
DTSTAMP:20260423T005619
CREATED:20251102T125209Z
LAST-MODIFIED:20251102T125209Z
UID:2100-1783335600-1783360800@vhsi.b-solid.be
SUMMARY:VHSI open voor inschrijvingen en inlichtingen
DESCRIPTION:
URL:https://vhsi.b-solid.be/event/vhsi-open-voor-inschrijvingen-en-inlichtingen-4/
LOCATION:Vrij Handels- en SportInstituut\, Spoorwegstraat 14\, Sint-Michiels Brugge\, 8200\, Belgium
CATEGORIES:Infomomenten
END:VEVENT
BEGIN:VEVENT
DTSTART;TZID=Europe/Brussels:20260707T110000
DTEND;TZID=Europe/Brussels:20260707T180000
DTSTAMP:20260423T005619
CREATED:20251102T125310Z
LAST-MODIFIED:20251102T125310Z
UID:2102-1783422000-1783447200@vhsi.b-solid.be
SUMMARY:VHSI open voor inschrijvingen en inlichtingen
DESCRIPTION:
URL:https://vhsi.b-solid.be/event/vhsi-open-voor-inschrijvingen-en-inlichtingen-5/
LOCATION:Vrij Handels- en SportInstituut\, Spoorwegstraat 14\, Sint-Michiels Brugge\, 8200\, Belgium
CATEGORIES:Infomomenten
END:VEVENT
BEGIN:VEVENT
DTSTART;TZID=Europe/Brussels:20260708T110000
DTEND;TZID=Europe/Brussels:20260708T140000
DTSTAMP:20260423T005619
CREATED:20251102T125417Z
LAST-MODIFIED:20251102T125432Z
UID:2104-1783508400-1783519200@vhsi.b-solid.be
SUMMARY:VHSI open voor inschrijvingen en inlichtingen
DESCRIPTION:
URL:https://vhsi.b-solid.be/event/vhsi-open-voor-inschrijvingen-en-inlichtingen-6/
LOCATION:Vrij Handels- en SportInstituut\, Spoorwegstraat 14\, Sint-Michiels Brugge\, 8200\, Belgium
CATEGORIES:Infomomenten
END:VEVENT
END:VCALENDAR