BEGIN:VCALENDAR
VERSION:2.0
PRODID:-// - ECPv6.15.9//NONSGML v1.0//EN
CALSCALE:GREGORIAN
METHOD:PUBLISH
X-ORIGINAL-URL:https://vhsi.b-solid.be
X-WR-CALDESC:Events voor 
REFRESH-INTERVAL;VALUE=DURATION:PT1H
X-Robots-Tag:noindex
X-PUBLISHED-TTL:PT1H
BEGIN:VTIMEZONE
TZID:Europe/Brussels
BEGIN:DAYLIGHT
TZOFFSETFROM:+0100
TZOFFSETTO:+0200
TZNAME:CEST
DTSTART:20250330T010000
END:DAYLIGHT
BEGIN:STANDARD
TZOFFSETFROM:+0200
TZOFFSETTO:+0100
TZNAME:CET
DTSTART:20251026T010000
END:STANDARD
BEGIN:DAYLIGHT
TZOFFSETFROM:+0100
TZOFFSETTO:+0200
TZNAME:CEST
DTSTART:20260329T010000
END:DAYLIGHT
BEGIN:STANDARD
TZOFFSETFROM:+0200
TZOFFSETTO:+0100
TZNAME:CET
DTSTART:20261025T010000
END:STANDARD
BEGIN:DAYLIGHT
TZOFFSETFROM:+0100
TZOFFSETTO:+0200
TZNAME:CEST
DTSTART:20270328T010000
END:DAYLIGHT
BEGIN:STANDARD
TZOFFSETFROM:+0200
TZOFFSETTO:+0100
TZNAME:CET
DTSTART:20271031T010000
END:STANDARD
END:VTIMEZONE
BEGIN:VEVENT
DTSTART;TZID=Europe/Brussels:20260317T181500
DTEND;TZID=Europe/Brussels:20260317T190000
DTSTAMP:20260421T072355
CREATED:20251102T123018Z
LAST-MODIFIED:20251102T123018Z
UID:2074-1773771300-1773774000@vhsi.b-solid.be
SUMMARY:Schoolraad
DESCRIPTION:
URL:https://vhsi.b-solid.be/event/schoolraad-2/
LOCATION:Vrij Handels- en SportInstituut\, Spoorwegstraat 14\, Sint-Michiels Brugge\, 8200\, Belgium
CATEGORIES:Schoolraad
END:VEVENT
END:VCALENDAR